BEGIN:VCALENDAR
VERSION:2.0
PRODID:-//SCHULBAU - ECPv6.15.20//NONSGML v1.0//EN
CALSCALE:GREGORIAN
METHOD:PUBLISH
X-WR-CALNAME:SCHULBAU
X-ORIGINAL-URL:https://schulbau.online/en/
X-WR-CALDESC:Events for SCHULBAU
REFRESH-INTERVAL;VALUE=DURATION:PT1H
X-Robots-Tag:noindex
X-PUBLISHED-TTL:PT1H
BEGIN:VTIMEZONE
TZID:Europe/Paris
BEGIN:DAYLIGHT
TZOFFSETFROM:+0100
TZOFFSETTO:+0200
TZNAME:CEST
DTSTART:20250330T010000
END:DAYLIGHT
BEGIN:STANDARD
TZOFFSETFROM:+0200
TZOFFSETTO:+0100
TZNAME:CET
DTSTART:20251026T010000
END:STANDARD
BEGIN:DAYLIGHT
TZOFFSETFROM:+0100
TZOFFSETTO:+0200
TZNAME:CEST
DTSTART:20260329T010000
END:DAYLIGHT
BEGIN:STANDARD
TZOFFSETFROM:+0200
TZOFFSETTO:+0100
TZNAME:CET
DTSTART:20261025T010000
END:STANDARD
BEGIN:DAYLIGHT
TZOFFSETFROM:+0100
TZOFFSETTO:+0200
TZNAME:CEST
DTSTART:20270328T010000
END:DAYLIGHT
BEGIN:STANDARD
TZOFFSETFROM:+0200
TZOFFSETTO:+0100
TZNAME:CET
DTSTART:20271031T010000
END:STANDARD
END:VTIMEZONE
BEGIN:VEVENT
DTSTART;VALUE=DATE:20260602
DTEND;VALUE=DATE:20260603
DTSTAMP:20260423T111419
CREATED:20250708T162124Z
LAST-MODIFIED:20250903T090126Z
UID:10000024-1780358400-1780444799@schulbau.online
SUMMARY:Think Tank Copenhagen 2026
DESCRIPTION:Think Tank Copenhagen 2026 \nThe SCHULBAU Think Tank in Copenhagen brings together international experts to discuss the future of school learning. The focus is on groundbreaking projects\, innovative participation formats and practical impulses – for educational spaces that do not function rigidly\, but act as dynamic places for learning\, community and sustainability.
URL:https://schulbau.online/en/schulbau-messe/think-tank-copenhagen-2026/
CATEGORIES:SCHULBAU Fair
ATTACH;FMTTYPE=image/jpeg:https://schulbau.online/wp-content/uploads/2025/03/kopenhagen.jpeg
END:VEVENT
BEGIN:VEVENT
DTSTART;VALUE=DATE:20260930
DTEND;VALUE=DATE:20261002
DTSTAMP:20260423T111419
CREATED:20250610T084746Z
LAST-MODIFIED:20260202T100426Z
UID:10000016-1790726400-1790899199@schulbau.online
SUMMARY:Cologne 2026
DESCRIPTION:SCHULBAU Cologne 2026 \nCurrently\, the list of the city of Cologne includes 207 school construction projects. Of these\, 91 are in the planning stage or are already under construction. In the most recent business plan\, around 314 million euros were made available in the area of “new construction\, extension and general overhaul” only for major projects in school construction and an additional 82.5 million euros for the ongoing repair and maintenance of municipal schools.
URL:https://schulbau.online/en/schulbau-messe/cologne-2026/
CATEGORIES:SCHULBAU Fair
ATTACH;FMTTYPE=image/jpeg:https://schulbau.online/wp-content/uploads/2025/06/palladium-koeln-20240716_211209-helmut-loewe-2000.jpg
END:VEVENT
BEGIN:VEVENT
DTSTART;VALUE=DATE:20261111
DTEND;VALUE=DATE:20261113
DTSTAMP:20260423T111419
CREATED:20250610T092816Z
LAST-MODIFIED:20250903T090127Z
UID:10000017-1794355200-1794527999@schulbau.online
SUMMARY:Berlin 2026
DESCRIPTION:SCHULBAU Berlin 2026 \nThe Berlin School Construction Offensive is one of Berlin’s central infrastructure projects. The declared goal is to provide good and sufficient school places. In addition to the expansion and renovation of existing buildings\, the focus of the offensive is on the construction of new schools. The Berlin Senate is currently investing more than 1 billion euros annually in this area.
URL:https://schulbau.online/en/schulbau-messe/berlin-2026/
CATEGORIES:SCHULBAU Fair
ATTACH;FMTTYPE=image/jpeg:https://schulbau.online/wp-content/uploads/2025/06/images-2.jpeg
END:VEVENT
END:VCALENDAR